BEGIN:VCALENDAR
VERSION:2.0
PRODID:-//ChamberMaster//Event Calendar 2.0//EN
METHOD:PUBLISH
X-PUBLISHED-TTL:P3D
REFRESH-INTERVAL:P3D
CALSCALE:GREGORIAN
BEGIN:VEVENT
DTSTART:20091114T150000Z
DTEND:20091114T170000Z
X-MICROSOFT-CDO-ALLDAYEVENT:FALSE
SUMMARY:Brite's Bike Club
DESCRIPTION:The Children's Museum of Brownsville\, their mascot Brite the Sun\, and Resaca de la Palma State Park hosts Brite's Bike Club at the State Park. It will offering: Guided Bicycle Tours by park rangers for adults and children\, a KiddieZone with arts and crafts and Wildlife Tramcar Rides for the whole family.
X-ALT-DESC;FMTTYPE=text/html:The Children's Museum of Brownsville\, their mascot Brite the Sun\, and Resaca de la Palma State Park hosts Brite's Bike Club at the State Park. It will offering: Guided Bicycle Tours by park rangers for adults and children\, a KiddieZone with arts and crafts and Wildlife Tramcar Rides for the whole family. 
LOCATION:Children's Museum of Brownsville
UID:e.1828.2203
SEQUENCE:3
DTSTAMP:20260422T143907Z
URL:https://business.harlingen.com/events/details/brite-s-bike-club-11-14-2009-2203
END:VEVENT

END:VCALENDAR
