BEGIN:VCALENDAR
VERSION:2.0
PRODID:-//ChamberMaster//Event Calendar 2.0//EN
METHOD:PUBLISH
X-PUBLISHED-TTL:P3D
REFRESH-INTERVAL:P3D
CALSCALE:GREGORIAN
BEGIN:VEVENT
DTSTART:20091003T180000Z
DTEND:20091003T190000Z
X-MICROSOFT-CDO-ALLDAYEVENT:FALSE
SUMMARY:Brite's Story Book Club at the Children's Museum of Brownsville
DESCRIPTION:The Children's Museum of Brownsville will host Brite's Story Book Club on Saturday\, October 3rd from 1:00p.m. to 2:00p.m.  Children are encouraged to partake in this magical story book adventure!  \n\nWe will be reading ''Mi Primer Libro de Dichos\, My First Book of Proverbs.''  Little guests will create their own masterpiece inspired by the bilingual book.  The children's artwork will then be displayed at the Southmost Heritage Complex from October 15 – November 15\, 2009 next to the work Harlingen artist Jennifer Rodriguez and her rendition of Mexican-American sayings in the exhibit ''Dichos''.\n\nBrite's Story Book Club is proudly sponsored by Target.  Museum admission is $5.00 per person\, 12 months and under\, FREE.  For more information\, please visit our website at www.cmofbrownsville.com or call (956) 548-9300.
X-ALT-DESC;FMTTYPE=text/html:The Children's Museum of Brownsville will host Brite's Story Book Club on Saturday\, October 3rd from 1:00p.m. to 2:00p.m.  Children are encouraged to partake in this magical story book adventure!  \n\nWe will be reading ''Mi Primer Libro de Dichos\, My First Book of Proverbs.''  Little guests will create their own masterpiece inspired by the bilingual book.  The children's artwork will then be displayed at the Southmost Heritage Complex from October 15 – November 15\, 2009 next to the work Harlingen artist Jennifer Rodriguez and her rendition of Mexican-American sayings in the exhibit ''Dichos''.\n\nBrite's Story Book Club is proudly sponsored by Target.  Museum admission is $5.00 per person\, 12 months and under\, FREE.  For more information\, please visit our website at www.cmofbrownsville.com or call (956) 548-9300.\n
LOCATION:
UID:e.1828.2125
SEQUENCE:3
DTSTAMP:20260422T112557Z
URL:https://business.harlingen.com/events/details/brite-s-story-book-club-at-the-children-s-museum-of-brownsville-10-03-2009-2125
END:VEVENT

END:VCALENDAR
