BEGIN:VCALENDAR
VERSION:2.0
PRODID:-//ChamberMaster//Event Calendar 2.0//EN
METHOD:PUBLISH
X-PUBLISHED-TTL:P3D
REFRESH-INTERVAL:P3D
CALSCALE:GREGORIAN
BEGIN:VEVENT
DTSTART:20100107T160000Z
DTEND:20100204T220000Z
X-MICROSOFT-CDO-ALLDAYEVENT:FALSE
SUMMARY:Brownsville\, 1879
DESCRIPTION:The Brownsville Historical Association invites the community to take a trip back in time with never-before-published photos of iconic streets and buildings of Brownsville in 1879. Included with BHA general admission. The exhibit will run through February 4\, 2010.
X-ALT-DESC;FMTTYPE=text/html:The Brownsville Historical Association invites the community to take a trip back in time with never-before-published photos of iconic streets and buildings of Brownsville in 1879. Included with BHA general admission. The exhibit will run through February 4\, 2010.
LOCATION:Brownsville Heritage Complex
UID:e.1828.2306
SEQUENCE:3
DTSTAMP:20260422T111842Z
URL:https://business.harlingen.com/events/details/brownsville-1879-01-07-2010-2306
END:VEVENT

END:VCALENDAR
