BEGIN:VCALENDAR
VERSION:2.0
PRODID:-//ChamberMaster//Event Calendar 2.0//EN
METHOD:PUBLISH
X-PUBLISHED-TTL:P3D
REFRESH-INTERVAL:P3D
CALSCALE:GREGORIAN
BEGIN:VEVENT
DTSTART:20091108T000000Z
DTEND:20091108T000000Z
X-MICROSOFT-CDO-ALLDAYEVENT:FALSE
SUMMARY:Brownsville and the Border Renaissance During the 1930s
DESCRIPTION:Guests are invited to meet and greet Professor John Gonzalez of the University of Texas at Austin\, author of Border Renaissance: The Texas Centennial and the Emergence of Mexican-American Literature. Refreshments will be available
X-ALT-DESC;FMTTYPE=text/html:Guests are invited to meet and greet Professor John Gonzalez of the University of Texas at Austin\, author of Border Renaissance: The Texas Centennial and the Emergence of Mexican-American Literature. Refreshments will be available
LOCATION:Brownsville Heritage Complex
UID:e.1828.2185
SEQUENCE:3
DTSTAMP:20260422T130511Z
URL:https://business.harlingen.com/events/details/brownsville-and-the-border-renaissance-during-the-1930s-11-07-2009-2185
END:VEVENT

END:VCALENDAR
