BEGIN:VCALENDAR
VERSION:2.0
PRODID:-//ChamberMaster//Event Calendar 2.0//EN
METHOD:PUBLISH
X-PUBLISHED-TTL:P3D
REFRESH-INTERVAL:P3D
CALSCALE:GREGORIAN
BEGIN:VEVENT
DTSTART:20120830T230000Z
DTEND:20120831T030000Z
X-MICROSOFT-CDO-ALLDAYEVENT:FALSE
SUMMARY:Brownsville Museum of Fine Art
DESCRIPTION:Brownsville Museum of Fine Art invitesYou to have Dinner at Mi Pueblito Restaurant Bar & Grill 10% of the proceeds will benefit the museum.  For more information call (956) 350-9696.
X-ALT-DESC;FMTTYPE=text/html:Brownsville Museum of Fine Art invitesYou to have Dinner at Mi Pueblito Restaurant Bar & Grill 10% of the proceeds will benefit the museum.  For more information call (956) 350-9696.  \n   \n\n
LOCATION:
UID:e.1828.3934
SEQUENCE:3
DTSTAMP:20260420T101823Z
URL:https://business.harlingen.com/events/details/brownsville-museum-of-fine-art-08-30-2012-3934
END:VEVENT

END:VCALENDAR
