BEGIN:VCALENDAR
VERSION:2.0
PRODID:-//ChamberMaster//Event Calendar 2.0//EN
METHOD:PUBLISH
X-PUBLISHED-TTL:P3D
REFRESH-INTERVAL:P3D
CALSCALE:GREGORIAN
BEGIN:VEVENT
DTSTART:20121027T000000Z
DTEND:20121027T000000Z
X-MICROSOFT-CDO-ALLDAYEVENT:FALSE
SUMMARY:Brownsville Museum of Fine Art 6th Anniversary Gala
DESCRIPTION:We are honored to present the exhibits of Renowned Sculptor\, Javier Marin "Retroperspectiva" and Distinguished Artist\, Marcela Arguelles Lawler "Discurso de Emociones".  Tickets will be sold at the museum and online.  For more information call (956) 542-0941.\n\nTickets:  $100\nBMFA Members:  $90
X-ALT-DESC;FMTTYPE=text/html:We are honored to present the exhibits of Renowned Sculptor\, Javier Marin "Retroperspectiva" and Distinguished Artist\, Marcela Arguelles Lawler "Discurso de Emociones".  Tickets will be sold at the museum and online.  For more information call (956) 542-0941.\n\nTickets:  $100\nBMFA Members:  $90 \n
LOCATION:
UID:e.1828.4008
SEQUENCE:3
DTSTAMP:20260420T102919Z
URL:https://business.harlingen.com/events/details/brownsville-museum-of-fine-art-6th-anniversary-gala-10-26-2012-4008
END:VEVENT

END:VCALENDAR
