BEGIN:VCALENDAR
VERSION:2.0
PRODID:-//ChamberMaster//Event Calendar 2.0//EN
METHOD:PUBLISH
X-PUBLISHED-TTL:P3D
REFRESH-INTERVAL:P3D
CALSCALE:GREGORIAN
BEGIN:VEVENT
DTSTART:20110118T133000Z
DTEND:20110118T133000Z
X-MICROSOFT-CDO-ALLDAYEVENT:FALSE
SUMMARY:Buenos Dias Harlingen
DESCRIPTION:Join us as we kick off 2011 by welcoming our special guest speaker\, Harlingen Mayor Chris Boswell\, for an informal discussion on subjects that impact your business and community. Buenos Dias Harlingen is also an opportunity to learn more about upcoming Chamber events and activities.  Please RSVP by calling the Chamber at (956) 423-5440.
X-ALT-DESC;FMTTYPE=text/html:Join us as we kick off 2011 by welcoming our special guest speaker\, Harlingen Mayor Chris Boswell\, for an informal discussion on subjects that impact your business and community. Buenos Dias Harlingen is also an opportunity to learn more about upcoming Chamber events and activities.  Please RSVP by calling the Chamber at (956) 423-5440.\n
LOCATION:Chamber Board Room
UID:e.1828.2875
SEQUENCE:3
DTSTAMP:20260421T154510Z
URL:https://business.harlingen.com/events/details/buenos-dias-harlingen-01-18-2011-2875
END:VEVENT

END:VCALENDAR
