BEGIN:VCALENDAR
VERSION:2.0
PRODID:-//ChamberMaster//Event Calendar 2.0//EN
METHOD:PUBLISH
X-PUBLISHED-TTL:P3D
REFRESH-INTERVAL:P3D
CALSCALE:GREGORIAN
BEGIN:VEVENT
DTSTART:20110215T133000Z
DTEND:20110215T133000Z
X-MICROSOFT-CDO-ALLDAYEVENT:FALSE
SUMMARY:Buenos Dias Harlingen
DESCRIPTION:Join us for coffee at our monthly membership meeting! Get quick updates from the Chamber about upcoming events & learn about subjects that impact your business & community. This month we will welcome guest speaker Blake Hastings\, Vice President in Charge Federal Reserve Bank of Dallas San Antonio Branch.  Mr. Hasting's presentation\, Economy at a Crossroads\, briefly describes the beginnings of the economic downturn\, focuses on the Federal Reserve's response & walks through a few considerations moving forward.\n\nBuenos Dias Harlingen is also a great networking opportunity. Don't forget your business cards! Please RSVP by calling the Chamber (956) 423-5440.
X-ALT-DESC;FMTTYPE=text/html:Join us for coffee at our monthly membership meeting! Get quick updates from the Chamber about upcoming events & learn about subjects that impact your business & community. This month we will welcome guest speaker Blake Hastings\, Vice President in Charge Federal Reserve Bank of Dallas San Antonio Branch.  Mr. Hasting's presentation\, Economy at a Crossroads\, briefly describes the beginnings of the economic downturn\, focuses on the Federal Reserve's response & walks through a few considerations moving forward.\n\nBuenos Dias Harlingen is also a great networking opportunity. Don't forget your business cards! Please RSVP by calling the Chamber (956) 423-5440.\n
LOCATION:
UID:e.1828.2901
SEQUENCE:3
DTSTAMP:20260421T154049Z
URL:https://business.harlingen.com/events/details/buenos-dias-harlingen-02-15-2011-2901
END:VEVENT

END:VCALENDAR
