BEGIN:VCALENDAR
VERSION:2.0
PRODID:-//ChamberMaster//Event Calendar 2.0//EN
METHOD:PUBLISH
X-PUBLISHED-TTL:P3D
REFRESH-INTERVAL:P3D
CALSCALE:GREGORIAN
BEGIN:VEVENT
DTSTART:20110303T133000Z
DTEND:20110303T133000Z
X-MICROSOFT-CDO-ALLDAYEVENT:FALSE
SUMMARY:Buenos Dias Harlingen!
DESCRIPTION:Join us for coffee at our monthly membership meeting! \nGet quick updates from the Chamber about upcoming events & learn about subjects that impact your business & community. \n     \nThis month\, a power point presentation will be made by the\nCAMERON COUNTY REGIONAL MOBILITY AUTHORITY\non important transportation issues affecting the Harlingen area.\n \nBuenos Dias Harlingen is also a great networking opportunity.\nDon't forget your business cards! \nPlease call the Chamber to RSVP (956) 423-5440.
X-ALT-DESC;FMTTYPE=text/html:Join us for coffee at our monthly membership meeting! \nGet quick updates from the Chamber about upcoming events & learn about subjects that impact your business & community. \n     \nThis month\, a power point presentation will be made by the\nCAMERON COUNTY REGIONAL MOBILITY AUTHORITY\non important transportation issues affecting the Harlingen area.\n \nBuenos Dias Harlingen is also a great networking opportunity.\nDon't forget your business cards! \nPlease call the Chamber to RSVP (956) 423-5440.\n
LOCATION:
UID:e.1828.2979
SEQUENCE:3
DTSTAMP:20260421T135439Z
URL:https://business.harlingen.com/events/details/buenos-dias-harlingen-03-03-2011-2979
END:VEVENT

END:VCALENDAR
