BEGIN:VCALENDAR
VERSION:2.0
PRODID:-//ChamberMaster//Event Calendar 2.0//EN
METHOD:PUBLISH
X-PUBLISHED-TTL:P3D
REFRESH-INTERVAL:P3D
CALSCALE:GREGORIAN
BEGIN:VEVENT
DTSTART:20110331T123000Z
DTEND:20110331T123000Z
X-MICROSOFT-CDO-ALLDAYEVENT:FALSE
SUMMARY:Buenos Dias Harlingen
DESCRIPTION:Join us as we welcome our special guest speaker\, \nHarlingen City Commissioner District I\, Gus Ruiz\, for an informal discussion on subjects that impact your business and your community. \n\nBuenos Dias Harlingen is also an opportunity \nto learn more about upcoming Chamber \nevents and activities!  \n\nPlease RSVP by calling the Chamber (956) 423-5440.
X-ALT-DESC;FMTTYPE=text/html:Join us as we welcome our special guest speaker\, \nHarlingen City Commissioner District I\, Gus Ruiz\, for an informal discussion on subjects that impact your business and your community. \n\nBuenos Dias Harlingen is also an opportunity \nto learn more about upcoming Chamber \nevents and activities!  \n\nPlease RSVP by calling the Chamber (956) 423-5440.\n
LOCATION:
UID:e.1828.3001
SEQUENCE:3
DTSTAMP:20260421T124414Z
URL:https://business.harlingen.com/events/details/buenos-dias-harlingen-03-31-2011-3001
END:VEVENT

END:VCALENDAR
