BEGIN:VCALENDAR
VERSION:2.0
PRODID:-//ChamberMaster//Event Calendar 2.0//EN
METHOD:PUBLISH
X-PUBLISHED-TTL:P3D
REFRESH-INTERVAL:P3D
CALSCALE:GREGORIAN
BEGIN:VEVENT
DTSTART:20110811T123000Z
DTEND:20110811T123000Z
X-MICROSOFT-CDO-ALLDAYEVENT:FALSE
SUMMARY:Buenos Dias Harlingen
DESCRIPTION:Get quick updates from the Chamber about upcoming events & learn about subjects that impact your business & community. This month we will welcome guest speakers: \nJERRY PREPEJCHAL\, Harlingen City Commissioner District 4\, Stella Garcia\, AVP Corporate and Community Education at TSTC\, will also give a brief overview of the grants available for small business skills training (Skills for Small Businesses Training Grants )\nBuenos Dias Harlingen is a great networking opportunity. Don't forget your business cards!\nPlease RSVP by calling the Chamber (956) 423-5440. Sponsored by Pressed on Time Ironing Services
X-ALT-DESC;FMTTYPE=text/html:Get quick updates from the Chamber about upcoming events & learn about subjects that impact your business & community. This month we will welcome guest speakers: \nJERRY PREPEJCHAL\, Harlingen City Commissioner District 4\, Stella Garcia\, AVP Corporate and Community Education at TSTC\, will also give a brief overview of the grants available for small business skills training (Skills for Small Businesses Training Grants )\nBuenos Dias Harlingen is a great networking opportunity. Don't forget your business cards!\nPlease RSVP by calling the Chamber (956) 423-5440. Sponsored by Pressed on Time Ironing Services
LOCATION:
UID:e.1828.3132
SEQUENCE:3
DTSTAMP:20260421T051028Z
URL:https://business.harlingen.com/events/details/buenos-dias-harlingen-08-11-2011-3132
END:VEVENT

END:VCALENDAR
