BEGIN:VCALENDAR
VERSION:2.0
PRODID:-//ChamberMaster//Event Calendar 2.0//EN
METHOD:PUBLISH
X-PUBLISHED-TTL:P3D
REFRESH-INTERVAL:P3D
CALSCALE:GREGORIAN
BEGIN:VEVENT
DTSTART:20101021T130000Z
DTEND:20101021T130000Z
X-MICROSOFT-CDO-ALLDAYEVENT:FALSE
SUMMARY:Buenos Dias Harlingen
DESCRIPTION:Join us for coffee at our monthly membership meeting\, Buenos Dias Harlingen.  Get quick updates from the Chamber and learn about subjects that impact your business and your community.  This month we will welcome guest speakers Michael Freeman\, Port Director\, U.S. Department of Homeland Security\, U.S. Customs and Border Protection\, Brownsville\, and Manuel Maldonado\, who was recently appointed Passenger Service Manager at the Brownsville bridges and the Free Trade Bridge at Los Indios.  Please RSVP to the Chamber by calling (956) 423-5440 or email Maggie at mortiz@harlingen.com  Buenos Dias Harlingen is a great networking opportunity.  \nDon't forget your business cards!
X-ALT-DESC;FMTTYPE=text/html:Join us for coffee at our monthly membership meeting\, Buenos Dias Harlingen.  Get quick updates from the Chamber and learn about subjects that impact your business and your community.  This month we will welcome guest speakers Michael Freeman\, Port Director\, U.S. Department of Homeland Security\, U.S. Customs and Border Protection\, Brownsville\, and Manuel Maldonado\, who was recently appointed Passenger Service Manager at the Brownsville bridges and the Free Trade Bridge at Los Indios.  Please RSVP to the Chamber by calling (956) 423-5440 or email Maggie at mortiz@harlingen.com  Buenos Dias Harlingen is a great networking opportunity.  \nDon't forget your business cards!  \n
LOCATION:
UID:e.1828.2785
SEQUENCE:3
DTSTAMP:20260421T203332Z
URL:https://business.harlingen.com/events/details/buenos-dias-harlingen-10-21-2010-2785
END:VEVENT

END:VCALENDAR
