BEGIN:VCALENDAR
VERSION:2.0
PRODID:-//ChamberMaster//Event Calendar 2.0//EN
METHOD:PUBLISH
X-PUBLISHED-TTL:P3D
REFRESH-INTERVAL:P3D
CALSCALE:GREGORIAN
BEGIN:VEVENT
DTSTART:20111213T133000Z
DTEND:20111213T133000Z
X-MICROSOFT-CDO-ALLDAYEVENT:FALSE
SUMMARY:Buenos Dias Harlingen
DESCRIPTION:This month we welcome guest speaker: Robert Carreon  \n\nTeach For America is building a movement of leaders working to ensure all children in our nation have the opportunity to attain an equitable education.  We have operated in the Rio Grande Valley since 1991 and have provided over 1\,200 leaders to public schools in the Rio Grande Valley\, and built a record of success in improvement student achievement at the classroom\, school and system level.   \n\nGet quick updates from the Chamber about upcoming events & learn about subjects that impact your business & community.\nBring your business cards!\n \nPlease RSVP by calling the Chamber (956) 423-5440.
X-ALT-DESC;FMTTYPE=text/html:This month we welcome guest speaker: Robert Carreon  \n\nTeach For America is building a movement of leaders working to ensure all children in our nation have the opportunity to attain an equitable education.  We have operated in the Rio Grande Valley since 1991 and have provided over 1\,200 leaders to public schools in the Rio Grande Valley\, and built a record of success in improvement student achievement at the classroom\, school and system level.   \n\nGet quick updates from the Chamber about upcoming events & learn about subjects that impact your business & community.\nBring your business cards!\n \nPlease RSVP by calling the Chamber (956) 423-5440.\n
LOCATION:
UID:e.1828.3270
SEQUENCE:3
DTSTAMP:20260420T225243Z
URL:https://business.harlingen.com/events/details/buenos-dias-harlingen-12-13-2011-3270
END:VEVENT

END:VCALENDAR
