BEGIN:VCALENDAR
VERSION:2.0
PRODID:-//ChamberMaster//Event Calendar 2.0//EN
METHOD:PUBLISH
X-PUBLISHED-TTL:P3D
REFRESH-INTERVAL:P3D
CALSCALE:GREGORIAN
BEGIN:VEVENT
DTSTART:20120109T133000Z
DTEND:20120109T133000Z
X-MICROSOFT-CDO-ALLDAYEVENT:FALSE
SUMMARY:Buenos Dias Harlingen A Business Before Hours Coffee
DESCRIPTION:Get quick updates from the Chamber about upcoming events & learn about subjects that impact your business & community. Bring your business cards!\n \nThis month we welcome guest speaker:  Joey Trevino Harlingen City Commissioner\, District 5   \nRSVP by calling the Chamber (956) 423-5440.
X-ALT-DESC;FMTTYPE=text/html:Get quick updates from the Chamber about upcoming events & learn about subjects that impact your business & community. Bring your business cards!\n \nThis month we welcome guest speaker:  Joey Trevino Harlingen City Commissioner\, District 5   \nRSVP by calling the Chamber (956) 423-5440.\n\n
LOCATION:
UID:e.1828.3342
SEQUENCE:3
DTSTAMP:20260420T213108Z
URL:https://business.harlingen.com/events/details/buenos-dias-harlingen-a-business-before-hours-coffee-01-09-2012-3342
END:VEVENT

END:VCALENDAR
