BEGIN:VCALENDAR
VERSION:2.0
PRODID:-//ChamberMaster//Event Calendar 2.0//EN
METHOD:PUBLISH
X-PUBLISHED-TTL:P3D
REFRESH-INTERVAL:P3D
CALSCALE:GREGORIAN
BEGIN:VEVENT
DTSTART:20111011T123000Z
DTEND:20111011T123000Z
X-MICROSOFT-CDO-ALLDAYEVENT:FALSE
SUMMARY:Buenos Dias Harlingen A Business Before Hours Coffee
DESCRIPTION:Get quick updates from the Chamber about upcoming events & learn about subjects that impact your business & community. This month we will welcome guest speaker: Kori Marra Harlingen City Commissioner\, District 3.
X-ALT-DESC;FMTTYPE=text/html:Get quick updates from the Chamber about upcoming events & learn about subjects that impact your business & community. This month we will welcome guest speaker: Kori Marra Harlingen City Commissioner\, District 3.\n
LOCATION:
UID:e.1828.3182
SEQUENCE:3
DTSTAMP:20260421T021324Z
URL:https://business.harlingen.com/events/details/buenos-dias-harlingen-a-business-before-hours-coffee-10-11-2011-3182
END:VEVENT

END:VCALENDAR
