BEGIN:VCALENDAR
VERSION:2.0
PRODID:-//ChamberMaster//Event Calendar 2.0//EN
METHOD:PUBLISH
X-PUBLISHED-TTL:P3D
REFRESH-INTERVAL:P3D
CALSCALE:GREGORIAN
BEGIN:VEVENT
DTSTART:20120321T123000Z
DTEND:20120321T123000Z
X-MICROSOFT-CDO-ALLDAYEVENT:FALSE
SUMMARY:Buenos Dias Harlingen/Guest Speaker State Senator Eddie Lucio\, Jr.
DESCRIPTION:This month we welcome guest speaker: State Senator Eddie Lucio\, Jr.  Get quick updates from the Chamber about upcoming events & learn about subjects that impact your business & community.\nBring your business cards! \n\nRSVP by calling the Chamber (956) 423-5440
X-ALT-DESC;FMTTYPE=text/html:This month we welcome guest speaker: State Senator Eddie Lucio\, Jr.  Get quick updates from the Chamber about upcoming events & learn about subjects that impact your business & community.\nBring your business cards! \n\nRSVP by calling the Chamber (956) 423-5440\n
LOCATION:
UID:e.1828.3484
SEQUENCE:3
DTSTAMP:20260420T182225Z
URL:https://business.harlingen.com/events/details/buenos-dias-harlingen-guest-speaker-state-senator-eddie-lucio-jr-03-21-2012-3484
END:VEVENT

END:VCALENDAR
