BEGIN:VCALENDAR
VERSION:2.0
PRODID:-//ChamberMaster//Event Calendar 2.0//EN
METHOD:PUBLISH
X-PUBLISHED-TTL:P3D
REFRESH-INTERVAL:P3D
CALSCALE:GREGORIAN
BEGIN:VEVENT
DTSTART:20120830T123000Z
DTEND:20120830T133000Z
X-MICROSOFT-CDO-ALLDAYEVENT:FALSE
SUMMARY:Buenos Dias Harlingen - Morning Coffee
DESCRIPTION:Join us for coffee and hear our special guest speaker\, Dr. Steve Flores\, Superintendent HCISD!  Call for reservations at (956) 423-5565 ext. 200.  Seating is limited
X-ALT-DESC;FMTTYPE=text/html:Join us for coffee and hear our special guest speaker\, Dr. Steve Flores\, Superintendent HCISD!  Call for reservations at (956) 423-5565 ext. 200.  Seating is limited\n
LOCATION:
UID:e.1828.3913
SEQUENCE:3
DTSTAMP:20260420T101400Z
URL:https://business.harlingen.com/events/details/buenos-dias-harlingen-morning-coffee-08-30-2012-3913
END:VEVENT

END:VCALENDAR
