BEGIN:VCALENDAR
VERSION:2.0
PRODID:-//ChamberMaster//Event Calendar 2.0//EN
METHOD:PUBLISH
X-PUBLISHED-TTL:P3D
REFRESH-INTERVAL:P3D
CALSCALE:GREGORIAN
BEGIN:VEVENT
DTSTART;VALUE=DATE:20100114
DTEND;VALUE=DATE:20100315
TRANSP:TRANSPARENT
X-MICROSOFT-CDO-ALLDAYEVENT:TRUE
SUMMARY:Burgoyne Surrounded: New Quilts from an Old Favorite
DESCRIPTION:Burgoyne Surrounded:  New Quilts from an Old Favorite\, on loan from the National Quilt Museum in Paducah\, Kentucky.  Exhibit dates Janauary 14 through March 14.  For more information\, please call 956-216-4901.
X-ALT-DESC;FMTTYPE=text/html:Burgoyne Surrounded:  New Quilts from an Old Favorite\, on loan from the National Quilt Museum in Paducah\, Kentucky.  Exhibit dates Janauary 14 through March 14.  For more information\, please call 956-216-4901.\n
LOCATION:Off Loop 499 next to the TSTC Cultural Arts Building.
UID:e.1828.2321
SEQUENCE:3
DTSTAMP:20260422T081110Z
URL:https://business.harlingen.com/events/details/burgoyne-surrounded-new-quilts-from-an-old-favorite-01-14-2010-2321
END:VEVENT

END:VCALENDAR
