BEGIN:VCALENDAR
VERSION:2.0
PRODID:-//ChamberMaster//Event Calendar 2.0//EN
METHOD:PUBLISH
X-PUBLISHED-TTL:P3D
REFRESH-INTERVAL:P3D
CALSCALE:GREGORIAN
BEGIN:VEVENT
DTSTART;VALUE=DATE:20100505
DTEND;VALUE=DATE:20100506
TRANSP:TRANSPARENT
X-MICROSOFT-CDO-ALLDAYEVENT:TRUE
SUMMARY:Burial of Time Capsule at Harlingen Police Station
DESCRIPTION:The City of Harlingen has scheduled burial of the time capsule for 9 am on Thursday\, May 6th at the Police Station located on Fair Park Blvd.
X-ALT-DESC;FMTTYPE=text/html:The City of Harlingen has scheduled burial of the time capsule for 9 am on Thursday\, May 6th at the Police Station located on Fair Park Blvd.
LOCATION:
UID:e.1828.2515
SEQUENCE:3
DTSTAMP:20260422T064150Z
URL:https://business.harlingen.com/events/details/burial-of-time-capsule-at-harlingen-police-station-05-05-2010-2515
END:VEVENT

END:VCALENDAR
