BEGIN:VCALENDAR
VERSION:2.0
PRODID:-//ChamberMaster//Event Calendar 2.0//EN
METHOD:PUBLISH
X-PUBLISHED-TTL:P3D
REFRESH-INTERVAL:P3D
CALSCALE:GREGORIAN
BEGIN:VEVENT
DTSTART:20120323T123000Z
DTEND:20120323T140000Z
X-MICROSOFT-CDO-ALLDAYEVENT:FALSE
SUMMARY:Business Appreciation Breakfast University of Texas at Brownsville
DESCRIPTION:A celebration of our region's business leaders. Keynote Speaker:  Ray Hunt\, CEO of the Hunt Oil Company.\nThis Year's Honorees are Harlingen's very own  Jo Rae Wagner & Rene Capistran\, as well as Sergio Arguelles.\n\nStudent Union - El Gran Salon - UTB Campus \n$20/person \n\nFor more information\, contact Maribeth Deese at (956) 882-5828 or maribeth.deese@utb.edu or visit utb.edu/breakfast.
X-ALT-DESC;FMTTYPE=text/html:A celebration of our region's business leaders. Keynote Speaker:  Ray Hunt\, CEO of the Hunt Oil Company.\nThis Year's Honorees are Harlingen's very own  Jo Rae Wagner & Rene Capistran\, as well as Sergio Arguelles.\n\nStudent Union - El Gran Salon - UTB Campus \n$20/person \n\nFor more information\, contact Maribeth Deese at (956) 882-5828 or maribeth.deese@utb.edu or visit utb.edu/breakfast. \n\n
LOCATION:
UID:e.1828.3283
SEQUENCE:3
DTSTAMP:20260420T200921Z
URL:https://business.harlingen.com/events/details/business-appreciation-breakfast-university-of-texas-at-brownsville-03-23-2012-3283
END:VEVENT

END:VCALENDAR
