BEGIN:VCALENDAR
VERSION:2.0
PRODID:-//ChamberMaster//Event Calendar 2.0//EN
METHOD:PUBLISH
X-PUBLISHED-TTL:P3D
REFRESH-INTERVAL:P3D
CALSCALE:GREGORIAN
BEGIN:VEVENT
DTSTART:20210610T133000Z
DTEND:20210610T143000Z
X-MICROSOFT-CDO-ALLDAYEVENT:FALSE
SUMMARY:Business Over Breakfast - David Luna: Hurricane Preparedness
DESCRIPTION:It's time for Business Over Breakfast! Our keynote speaker this month is Dr. David Luna! He'll be discussing the importance of Hurricane Preparedness. Hurricane season is almost here and the RGV is no stranger to hurricanes.  Communities and families have been devastated with past hurricanes which bring strong winds and flooding.  Please join us as the Red Cross presents tips and strategies on how to prepare for these storms including emergency preparedness kits with necessary supplies and making a plan in case of an evacuation.
X-ALT-DESC;FMTTYPE=text/html:<p style="color: rgb(0\, 0\, 0)\; font-size: 11pt\; font-family: Calibri\, sans-serif\; margin: 0px\;">It&#39\;s time for Business Over Breakfast! Our keynote speaker this month is Dr. David Luna! He&#39\;ll be discussing the importance of Hurricane Preparedness. Hurricane season is almost here and the RGV is no stranger to hurricanes.&nbsp\; Communities and families have been devastated with past hurricanes which bring strong winds and flooding.&nbsp\; Please join us as the Red Cross presents tips and strategies on how to prepare for these storms including emergency preparedness kits with necessary supplies and making a plan in case of an evacuation.</p>\n
LOCATION:311 E Tyler Ave.\, Harlingen\, TX
UID:e.1828.16435
SEQUENCE:3
DTSTAMP:20260419T141022Z
URL:https://business.harlingen.com/events/details/business-over-breakfast-david-luna-hurricane-preparedness-16435
END:VEVENT

END:VCALENDAR
