BEGIN:VCALENDAR
VERSION:2.0
PRODID:-//ChamberMaster//Event Calendar 2.0//EN
METHOD:PUBLISH
X-PUBLISHED-TTL:P3D
REFRESH-INTERVAL:P3D
CALSCALE:GREGORIAN
BEGIN:VEVENT
DTSTART:20210513T133000Z
DTEND:20210513T143000Z
X-MICROSOFT-CDO-ALLDAYEVENT:FALSE
SUMMARY:Business Over Breakfast - Foster Angels of South Texas
DESCRIPTION:Business Over Breakfast is here! Lucy Wolthoff with Foster Angels of South Texas will be our keynote speaker for this month!
X-ALT-DESC;FMTTYPE=text/html:Business Over Breakfast is here! Lucy Wolthoff with Foster Angels of South Texas will be our keynote speaker for this month!&nbsp\;
LOCATION:Harlingen Chamber of Commerce
UID:e.1828.16432
SEQUENCE:3
DTSTAMP:20260419T180125Z
URL:https://business.harlingen.com/events/details/business-over-breakfast-foster-angels-of-south-texas-16432
END:VEVENT

END:VCALENDAR
