BEGIN:VCALENDAR
VERSION:2.0
PRODID:-//ChamberMaster//Event Calendar 2.0//EN
METHOD:PUBLISH
X-PUBLISHED-TTL:P3D
REFRESH-INTERVAL:P3D
CALSCALE:GREGORIAN
BEGIN:VEVENT
DTSTART;VALUE=DATE:20110326
DTEND;VALUE=DATE:20110328
TRANSP:TRANSPARENT
X-MICROSOFT-CDO-ALLDAYEVENT:TRUE
SUMMARY:Butterflies\, Blossoms & Birds Flower Show
DESCRIPTION:The Harlingen Council of Garden Clubs Standard Flower Show returns to the Cultural Arts Center.\nCome see our plants and garden items sale. Admission FREE/ DONATIONS accepted.\n\nSaturday\, March 26\, 2011\n1:00 - 5:00 pm\n2:00 pm Guest speaker Christina Mild\, "Best Butterfly Nectar Plants and a Host or Two as Well"\n\n\nSunday\, March 27\, 2011\n12:30 - 4:30 pm\n 2:00 pm Guest speaker Mike Heep\, "Plants of the Bible"\n\n\nSpeakers at 2 pm each day\nFor more information please call Carole Vickers at 956-412-0058
X-ALT-DESC;FMTTYPE=text/html:The Harlingen Council of Garden Clubs Standard Flower Show returns to the Cultural Arts Center.\nCome see our plants and garden items sale. Admission FREE/ DONATIONS accepted.\n\nSaturday\, March 26\, 2011\n1:00 - 5:00 pm\n2:00 pm Guest speaker Christina Mild\, "Best Butterfly Nectar Plants and a Host or Two as Well"\n\n\nSunday\, March 27\, 2011\n12:30 - 4:30 pm\n 2:00 pm Guest speaker Mike Heep\, "Plants of the Bible"\n\n\nSpeakers at 2 pm each day\nFor more information please call Carole Vickers at 956-412-0058\n\n\n
LOCATION:Located next to the Harlingen Library
UID:e.1828.2993
SEQUENCE:3
DTSTAMP:20260421T124908Z
URL:https://business.harlingen.com/events/details/butterflies-blossoms-birds-flower-show-03-26-2011-2993
END:VEVENT

END:VCALENDAR
