BEGIN:VCALENDAR
VERSION:2.0
PRODID:-//ChamberMaster//Event Calendar 2.0//EN
METHOD:PUBLISH
X-PUBLISHED-TTL:P3D
REFRESH-INTERVAL:P3D
CALSCALE:GREGORIAN
BEGIN:VEVENT
DTSTART;VALUE=DATE:20110701
DTEND;VALUE=DATE:20111001
TRANSP:TRANSPARENT
X-MICROSOFT-CDO-ALLDAYEVENT:TRUE
SUMMARY:Calling all Chamber "Red Coats"!
DESCRIPTION:Calling all Chamber "Red Coats"! \n\nThe Chamber Ambassadors Committee was organized fifty years ago\, in 1961\, under the name Six Shooter Committee. As official representatives of the Chamber\, the Ambassadors attend ground breakings and ribbon cuttings\, serve as greeters at Chamber mixers and other special events\, and participate in membership drives and retention programs. They are easy to spot at Chamber events because of their distinctive red coats. \nIn celebration of their 50th Anniversary\, the Chamber Ambassadors are planning a gala in October in conjunction with the Chamber's Annual Meeting. Chamber Ambassadors -- past and present -- will be recognized at the gala. \n\nIf you have ever been a member of the Chamber Ambassadors\, let us hear from you! \nCall the Chamber at 423-5440 for more information.
X-ALT-DESC;FMTTYPE=text/html:Calling all Chamber "Red Coats"! \n\nThe Chamber Ambassadors Committee was organized fifty years ago\, in 1961\, under the name Six Shooter Committee. As official representatives of the Chamber\, the Ambassadors attend ground breakings and ribbon cuttings\, serve as greeters at Chamber mixers and other special events\, and participate in membership drives and retention programs. They are easy to spot at Chamber events because of their distinctive red coats. \nIn celebration of their 50th Anniversary\, the Chamber Ambassadors are planning a gala in October in conjunction with the Chamber's Annual Meeting. Chamber Ambassadors -- past and present -- will be recognized at the gala. \n\nIf you have ever been a member of the Chamber Ambassadors\, let us hear from you! \nCall the Chamber at 423-5440 for more information. \n
LOCATION:
UID:e.1828.3108
SEQUENCE:3
DTSTAMP:20260421T050945Z
URL:https://business.harlingen.com/events/details/calling-all-chamber-red-coats-07-01-2011-3108
END:VEVENT

END:VCALENDAR
