BEGIN:VCALENDAR
VERSION:2.0
PRODID:-//ChamberMaster//Event Calendar 2.0//EN
METHOD:PUBLISH
X-PUBLISHED-TTL:P3D
REFRESH-INTERVAL:P3D
CALSCALE:GREGORIAN
BEGIN:VEVENT
DTSTART:20101016T200000Z
DTEND:20101017T010000Z
X-MICROSOFT-CDO-ALLDAYEVENT:FALSE
SUMMARY:Calvary Christian School Annual Fall Festival
DESCRIPTION:Come and join us for our Annual Fall Festival a day full of FUN for all!  Rides\, entertainment\, sweet shoppe\,food \nand live auction. Ticket prices: 50 cents each or wrist band $15.00 each.
X-ALT-DESC;FMTTYPE=text/html:Come and join us for our Annual Fall Festival a day full of FUN for all!  Rides\, entertainment\, sweet shoppe\,food \nand live auction. Ticket prices: 50 cents each or wrist band $15.00 each.  
LOCATION:
UID:e.1828.2791
SEQUENCE:3
DTSTAMP:20260421T203927Z
URL:https://business.harlingen.com/events/details/calvary-christian-school-annual-fall-festival-10-16-2010-2791
END:VEVENT

END:VCALENDAR
