BEGIN:VCALENDAR
VERSION:2.0
PRODID:-//ChamberMaster//Event Calendar 2.0//EN
METHOD:PUBLISH
X-PUBLISHED-TTL:P3D
REFRESH-INTERVAL:P3D
CALSCALE:GREGORIAN
BEGIN:VEVENT
DTSTART:20091010T140000Z
DTEND:20091010T190000Z
X-MICROSOFT-CDO-ALLDAYEVENT:FALSE
SUMMARY:Camelot Craft Show
DESCRIPTION:The craft show is from 9 a.m. to 2 p.m. and will be held in the Camelot Lodge (the main building) at 1000 Camelot Drive.  A drawing for a beautiful hand made afghan will take place during the show. You don't need to be present for the drawing\, but all tickets purchased must have a name and phone number! If you're interested in purchasing raffle tickets for $1 each or 6 for $5\, please call Camelot Retirement Village at 428-4422. You don't want to miss this craft show! The ladies have been busy making items for Fall\, Christmas and everyday use. For more information please call Frances Mendoza\, Activities Director at Camelot Retirement Village\, at the above number.  Money raised will benefit the Arts and Crafts Club.
X-ALT-DESC;FMTTYPE=text/html:The craft show is from 9 a.m. to 2 p.m. and will be held in the Camelot Lodge (the main building) at 1000 Camelot Drive.  A drawing for a beautiful hand made afghan will take place during the show. You don't need to be present for the drawing\, but all tickets purchased must have a name and phone number! If you're interested in purchasing raffle tickets for $1 each or 6 for $5\, please call Camelot Retirement Village at 428-4422. You don't want to miss this craft show! The ladies have been busy making items for Fall\, Christmas and everyday use. For more information please call Frances Mendoza\, Activities Director at Camelot Retirement Village\, at the above number.  Money raised will benefit the Arts and Crafts Club. \n\n
LOCATION:
UID:e.1828.2057
SEQUENCE:3
DTSTAMP:20260422T111659Z
URL:https://business.harlingen.com/events/details/camelot-craft-show-10-10-2009-2057
END:VEVENT

END:VCALENDAR
