BEGIN:VCALENDAR
VERSION:2.0
PRODID:-//ChamberMaster//Event Calendar 2.0//EN
METHOD:PUBLISH
X-PUBLISHED-TTL:P3D
REFRESH-INTERVAL:P3D
CALSCALE:GREGORIAN
BEGIN:VEVENT
DTSTART:20111015T140000Z
DTEND:20111015T190000Z
X-MICROSOFT-CDO-ALLDAYEVENT:FALSE
SUMMARY:Camelot Retirement Village Craft Sale
DESCRIPTION:Craft Sale\n\nFall and Christmas Decorations\nGifts\nQuilt Raffle\nGently Used Items\nPlants\nCookbooks\n \nIf you have any question call me to the office (956)428-4422.
X-ALT-DESC;FMTTYPE=text/html:Craft Sale\n\nFall and Christmas Decorations\nGifts\nQuilt Raffle\nGently Used Items\nPlants\nCookbooks\n \nIf you have any question call me to the office (956)428-4422.\n
LOCATION:
UID:e.1828.3179
SEQUENCE:3
DTSTAMP:20260421T034529Z
URL:https://business.harlingen.com/events/details/camelot-retirement-village-craft-sale-10-15-2011-3179
END:VEVENT

END:VCALENDAR
