BEGIN:VCALENDAR
VERSION:2.0
PRODID:-//ChamberMaster//Event Calendar 2.0//EN
METHOD:PUBLISH
X-PUBLISHED-TTL:P3D
REFRESH-INTERVAL:P3D
CALSCALE:GREGORIAN
BEGIN:VEVENT
DTSTART:20120912T190000Z
DTEND:20120912T190000Z
X-MICROSOFT-CDO-ALLDAYEVENT:FALSE
SUMMARY:"Cameron County Border Protection"
DESCRIPTION:Cameron County Judge Carlos H. Cascos\, CPA\, and Cameron County Emergency Management/Homeland Security presents: "Cameron County Border Protection" video showcase and panel discussion. Open to all law enforcement agencies and general public. Join your public safety leaders as we discuss this important issue.
X-ALT-DESC;FMTTYPE=text/html:Cameron County Judge Carlos H. Cascos\, CPA\, and Cameron County Emergency Management/Homeland Security presents: "Cameron County Border Protection" video showcase and panel discussion. Open to all law enforcement agencies and general public. Join your public safety leaders as we discuss this important issue. 
LOCATION:
UID:e.1828.3986
SEQUENCE:3
DTSTAMP:20260420T095642Z
URL:https://business.harlingen.com/events/details/cameron-county-border-protection-09-12-2012-3986
END:VEVENT

END:VCALENDAR
