BEGIN:VCALENDAR
VERSION:2.0
PRODID:-//ChamberMaster//Event Calendar 2.0//EN
METHOD:PUBLISH
X-PUBLISHED-TTL:P3D
REFRESH-INTERVAL:P3D
CALSCALE:GREGORIAN
BEGIN:VEVENT
DTSTART:20120412T223000Z
DTEND:20120412T233000Z
X-MICROSOFT-CDO-ALLDAYEVENT:FALSE
SUMMARY:Cameron County Children's Advocacy Centers\, Inc. 16th Annual Candlelight Vigil
DESCRIPTION:Join us April is National Child Abuse Prevention month. Let us not forget the Cameron County children lost to abuse in 2012. For more informaiton\, contact Monica's House at 956-986-2770 or Maggie's House 956-361-3313
X-ALT-DESC;FMTTYPE=text/html:Join us April is National Child Abuse Prevention month. Let us not forget the Cameron County children lost to abuse in 2012. For more informaiton\, contact Monica's House at 956-986-2770 or Maggie's House 956-361-3313
LOCATION:Located within the gates of the Cameron County San Benito Annex Building
UID:e.1828.3595
SEQUENCE:3
DTSTAMP:20260420T163940Z
URL:https://business.harlingen.com/events/details/cameron-county-children-s-advocacy-centers-inc-16th-annual-candlelight-vigil-04-12-2012-3595
END:VEVENT

END:VCALENDAR
