BEGIN:VCALENDAR
VERSION:2.0
PRODID:-//ChamberMaster//Event Calendar 2.0//EN
METHOD:PUBLISH
X-PUBLISHED-TTL:P3D
REFRESH-INTERVAL:P3D
CALSCALE:GREGORIAN
BEGIN:VEVENT
DTSTART:20100719T140000Z
DTEND:20100730T210000Z
X-MICROSOFT-CDO-ALLDAYEVENT:FALSE
SUMMARY:CANCELED DUE TO LACK OF INTEREST - Harlingen Parks & Recreation Presents Summer Magic Camp
DESCRIPTION:The Harlingen Parks and Recreation Department\, along with the Harlingen Arts and Heritage Museum\,  \nhas scheduled a Magic Camp titled ''A Summer with the Magical Arts'' from July 19 through July 30.  Session I for ages 8-11 will be held from 9:00 a.m. to 12:00 noon.  Session II for ages 12-15 wil be from 1:00 to 4:00 p.m.  Each session lasts 3 hours.  Please bring a snack.  Minimum of 10 participants per session with a maximum of 25.  The International Children's Entertainment Champion\, Oscar Muñoz\, has developed this two-week camp that includes magic\, juggling\, basic balloon sculpture and performing arts.  Great for improving hand-eye coordination\, stage presence\, self esteem and knowledge of magic.  Cost $100 per child.  To register\, please visit the Harlingen Parks & Recreation Department located at 502 East Tyler.  For more information\, please call 956-216-5950.
X-ALT-DESC;FMTTYPE=text/html:The Harlingen Parks and Recreation Department\, along with the Harlingen Arts and Heritage Museum\,  \nhas scheduled a Magic Camp titled ''A Summer with the Magical Arts'' from July 19 through July 30.  Session I for ages 8-11 will be held from 9:00 a.m. to 12:00 noon.  Session II for ages 12-15 wil be from 1:00 to 4:00 p.m.  Each session lasts 3 hours.  Please bring a snack.  Minimum of 10 participants per session with a maximum of 25.  The International Children's Entertainment Champion\, Oscar Muñoz\, has developed this two-week camp that includes magic\, juggling\, basic balloon sculpture and performing arts.  Great for improving hand-eye coordination\, stage presence\, self esteem and knowledge of magic.  Cost $100 per child.  To register\, please visit the Harlingen Parks & Recreation Department located at 502 East Tyler.  For more information\, please call 956-216-5950.\n
LOCATION:Corner of Boxwood & Raintree off Loop 499
UID:e.1828.2591
SEQUENCE:3
DTSTAMP:20260422T020019Z
URL:https://business.harlingen.com/events/details/canceled-due-to-lack-of-interest-harlingen-parks-recreation-presents-summer-magic-camp-07-19-2010-2591
END:VEVENT

END:VCALENDAR
