BEGIN:VCALENDAR
VERSION:2.0
PRODID:-//ChamberMaster//Event Calendar 2.0//EN
METHOD:PUBLISH
X-PUBLISHED-TTL:P3D
REFRESH-INTERVAL:P3D
CALSCALE:GREGORIAN
BEGIN:VEVENT
DTSTART:20100701T133000Z
DTEND:20100701T133000Z
X-MICROSOFT-CDO-ALLDAYEVENT:FALSE
SUMMARY:CANCELED DUE TO WEATHER - "Good Morning Downtown" Coffee
DESCRIPTION:Come for coffee and conversation about what's happening in Downtown Harlingen.  Learn about the Vannie Cook Holiday Shopping Card and how you might participate as a merchant or shopper in this great new promotion.  Bill Martin\, CEO of the Harlingen EDC\, will talk about Bass Pro Shops coming to Harlingen.  Plus\, some candid discussion about efforts of downtown property and business owners to continue the Harlingen Downtown District.  Free and open to the public -- bring a friend!  Coffee and pastries courtesy of Java Café.  For more info\, call the Harlingen Downtown Office\, (956) 216-4910.
X-ALT-DESC;FMTTYPE=text/html:Come for coffee and conversation about what's happening in Downtown Harlingen.  Learn about the Vannie Cook Holiday Shopping Card and how you might participate as a merchant or shopper in this great new promotion.  Bill Martin\, CEO of the Harlingen EDC\, will talk about Bass Pro Shops coming to Harlingen.  Plus\, some candid discussion about efforts of downtown property and business owners to continue the Harlingen Downtown District.  Free and open to the public -- bring a friend!  Coffee and pastries courtesy of Java Café.  For more info\, call the Harlingen Downtown Office\, (956) 216-4910.\n
LOCATION:
UID:e.1828.2592
SEQUENCE:3
DTSTAMP:20260422T015748Z
URL:https://business.harlingen.com/events/details/canceled-due-to-weather-good-morning-downtown-coffee-07-01-2010-2592
END:VEVENT

END:VCALENDAR
