BEGIN:VCALENDAR
VERSION:2.0
PRODID:-//ChamberMaster//Event Calendar 2.0//EN
METHOD:PUBLISH
X-PUBLISHED-TTL:P3D
REFRESH-INTERVAL:P3D
CALSCALE:GREGORIAN
BEGIN:VEVENT
DTSTART:20091204T003000Z
DTEND:20091204T003000Z
X-MICROSOFT-CDO-ALLDAYEVENT:FALSE
SUMMARY:CANCELLED - 2009 Arroyo Lighting - CANCELLED
DESCRIPTION:Come watch the annual lighting of the decorations at McKelvey Park & enjoy local groups perform holiday music & a special appearance by Santa Claus.  Seating is limited\, lawn chairs & blankets welcome.  Bring your flashlights.  For more information\, please call the Harlingen Parks & Rec Department at 956-216-5950.
X-ALT-DESC;FMTTYPE=text/html:Come watch the annual lighting of the decorations at McKelvey Park & enjoy local groups perform holiday music & a special appearance by Santa Claus.  Seating is limited\, lawn chairs & blankets welcome.  Bring your flashlights.  For more information\, please call the Harlingen Parks & Rec Department at 956-216-5950.
LOCATION:
UID:e.1828.2090
SEQUENCE:3
DTSTAMP:20260422T143518Z
URL:https://business.harlingen.com/events/details/cancelled-2009-arroyo-lighting-cancelled-12-03-2009-2090
END:VEVENT

END:VCALENDAR
