BEGIN:VCALENDAR
VERSION:2.0
PRODID:-//ChamberMaster//Event Calendar 2.0//EN
METHOD:PUBLISH
X-PUBLISHED-TTL:P3D
REFRESH-INTERVAL:P3D
CALSCALE:GREGORIAN
BEGIN:VEVENT
DTSTART:20100818T190000Z
DTEND:20100818T210000Z
X-MICROSOFT-CDO-ALLDAYEVENT:FALSE
SUMMARY:CANCELLED - FREE SEMINAR - Purchasing Principals
DESCRIPTION:Business owners are invited to learn tools to manage purchasing and inventory control.  Discover the savings potential achieved by using cost effective\, purchasing practices.     \n\nThe free session presented in partnership with The University of Texas-Pan American Project ASSIST II and the Small Business Development Center\, is scheduled for August 18th from 2 to 4 pm at the Harlingen Area Chamber of Commerce\, located at 311 E. Tyler in Harlingen.  \n\nSBDC Business Advisor Marcela Arredondo will guide small business owners through techniques utilized by large corporations and demonstrate the savings potential achieved by using cost effective practices. \n\n''Business owners should understand the importance of keeping cost to a minimum.  Learning these techniques is the key to running an effective business\,'' shares Arredondo.\n\nTo sign up for this free seminar or for further information\, please call the Harlingen Area Chamber of Commerce at (956) 423-5440.
X-ALT-DESC;FMTTYPE=text/html:Business owners are invited to learn tools to manage purchasing and inventory control.  Discover the savings potential achieved by using cost effective\, purchasing practices.     \n\nThe free session presented in partnership with The University of Texas-Pan American Project ASSIST II and the Small Business Development Center\, is scheduled for August 18th from 2 to 4 pm at the Harlingen Area Chamber of Commerce\, located at 311 E. Tyler in Harlingen.  \n\nSBDC Business Advisor Marcela Arredondo will guide small business owners through techniques utilized by large corporations and demonstrate the savings potential achieved by using cost effective practices. \n\n''Business owners should understand the importance of keeping cost to a minimum.  Learning these techniques is the key to running an effective business\,'' shares Arredondo.\n\nTo sign up for this free seminar or for further information\, please call the Harlingen Area Chamber of Commerce at (956) 423-5440. \n
LOCATION:
UID:e.1828.2607
SEQUENCE:3
DTSTAMP:20260422T001700Z
URL:https://business.harlingen.com/events/details/cancelled-free-seminar-purchasing-principals-08-18-2010-2607
END:VEVENT

END:VCALENDAR
