BEGIN:VCALENDAR
VERSION:2.0
PRODID:-//ChamberMaster//Event Calendar 2.0//EN
METHOD:PUBLISH
X-PUBLISHED-TTL:P3D
REFRESH-INTERVAL:P3D
CALSCALE:GREGORIAN
BEGIN:VEVENT
DTSTART;VALUE=DATE:20100318
DTEND;VALUE=DATE:20100321
TRANSP:TRANSPARENT
X-MICROSOFT-CDO-ALLDAYEVENT:TRUE
SUMMARY:CANCELLED - I Love You\, You're Perfect\, Now Change
DESCRIPTION:Purchase tickets online at www.hpatonline.net or at the box office.
X-ALT-DESC;FMTTYPE=text/html:Purchase tickets online at www.hpatonline.net or at the box office.  
LOCATION:
UID:e.1828.2288
SEQUENCE:3
DTSTAMP:20260422T081211Z
URL:https://business.harlingen.com/events/details/cancelled-i-love-you-you-re-perfect-now-change-03-18-2010-2288
END:VEVENT

END:VCALENDAR
