BEGIN:VCALENDAR
VERSION:2.0
PRODID:-//ChamberMaster//Event Calendar 2.0//EN
METHOD:PUBLISH
X-PUBLISHED-TTL:P3D
REFRESH-INTERVAL:P3D
CALSCALE:GREGORIAN
BEGIN:VEVENT
DTSTART:20091008T140000Z
DTEND:20091008T160000Z
X-MICROSOFT-CDO-ALLDAYEVENT:FALSE
SUMMARY:CANCELLED ''Raising Success Minded Children & Teens'' Workshop for Parents CANCELLED
DESCRIPTION:Do you have trouble communicating with your children?  Would you like to know how to be a great role model to your children?  Is goal setting foreign to your child?  Would like your child to be financially responsible?  Make Plans to Participate in a Life-Changing Workshop for Parents...''Raising Success Minded Children & Teens''.  Cost is $30.00 per person.  Space  is limited.  Make a difference in your child's life!  Register today. Deadline for registration is October 5th.  Please call Debby Cortez at 956-536-7729 or Kathy Payton at 956-245-3433\, or email us at  principlesofexcellence@gmail.com.
X-ALT-DESC;FMTTYPE=text/html:Do you have trouble communicating with your children?  Would you like to know how to be a great role model to your children?  Is goal setting foreign to your child?  Would like your child to be financially responsible?  Make Plans to Participate in a Life-Changing Workshop for Parents...''Raising Success Minded Children & Teens''.  Cost is $30.00 per person.  Space  is limited.  Make a difference in your child's life!  Register today. Deadline for registration is October 5th.  Please call Debby Cortez at 956-536-7729 or Kathy Payton at 956-245-3433\, or email us at  principlesofexcellence@gmail.com.                               \n                                              \n                                            \n                                                                                                                                                                                                                                                                                                                                                                \n\n                            \n\n\n
LOCATION:
UID:e.1828.2094
SEQUENCE:3
DTSTAMP:20260422T112350Z
URL:https://business.harlingen.com/events/details/cancelled-raising-success-minded-children-teens-workshop-for-parents-cancelled-10-08-2009-2094
END:VEVENT

END:VCALENDAR
