BEGIN:VCALENDAR
VERSION:2.0
PRODID:-//ChamberMaster//Event Calendar 2.0//EN
METHOD:PUBLISH
X-PUBLISHED-TTL:P3D
REFRESH-INTERVAL:P3D
CALSCALE:GREGORIAN
BEGIN:VEVENT
DTSTART;VALUE=DATE:20110501
DTEND;VALUE=DATE:20110502
TRANSP:TRANSPARENT
X-MICROSOFT-CDO-ALLDAYEVENT:TRUE
SUMMARY:Candidates wanted for the Señorita 5 de Mayo 2011 pageant in May
DESCRIPTION:Candidates wanted for the \nSeñorita 5 de Mayo 2011 pageant in May\n15 to 24 years\n$150 entry fee\n$2000 scholarship to the winner and $500 cash for runner-up\nTalent winner receives $500\nFor more information\, please call Gloria Canales at 423-0401
X-ALT-DESC;FMTTYPE=text/html:Candidates wanted for the \nSeñorita 5 de Mayo 2011 pageant in May\n15 to 24 years\n$150 entry fee\n$2000 scholarship to the winner and $500 cash for runner-up\nTalent winner receives $500\nFor more information\, please call Gloria Canales at 423-0401    \n
LOCATION:
UID:e.1828.2990
SEQUENCE:3
DTSTAMP:20260421T094747Z
URL:https://business.harlingen.com/events/details/candidates-wanted-for-the-se&#241;orita-5-de-mayo-2011-pageant-in-may-05-01-2011-2990
END:VEVENT

END:VCALENDAR
