BEGIN:VCALENDAR
VERSION:2.0
PRODID:-//ChamberMaster//Event Calendar 2.0//EN
METHOD:PUBLISH
X-PUBLISHED-TTL:P3D
REFRESH-INTERVAL:P3D
CALSCALE:GREGORIAN
BEGIN:VEVENT
DTSTART:20111006T230000Z
DTEND:20111007T000000Z
X-MICROSOFT-CDO-ALLDAYEVENT:FALSE
SUMMARY:Candlelight Vigil Ni Una Mas/Not One More
DESCRIPTION:Candlelight Vigil Ni Una Mas/Not One More\nIn honoring those lives lost\, the Family Crisis Center along Texas State Technical College in Harlingen will be honoring the victims that have lost their lives as result of domestic violence. This event is free and open to the public.\n\nOctober is Domestic Violence Awareness Month\, and unfortunately there is not a way to disguise the severity and impact of domestic violence in the lives of thousands of women\, men\, and children every day. Unfortunately\, the State of Texas had a total of 142 victims who were killed by their intimate partner and the Rio Grande Valley was not an exception.
X-ALT-DESC;FMTTYPE=text/html:Candlelight Vigil Ni Una Mas/Not One More\nIn honoring those lives lost\, the Family Crisis Center along Texas State Technical College in Harlingen will be honoring the victims that have lost their lives as result of domestic violence. This event is free and open to the public.\n\nOctober is Domestic Violence Awareness Month\, and unfortunately there is not a way to disguise the severity and impact of domestic violence in the lives of thousands of women\, men\, and children every day. Unfortunately\, the State of Texas had a total of 142 victims who were killed by their intimate partner and the Rio Grande Valley was not an exception. \n
LOCATION:
UID:e.1828.3184
SEQUENCE:3
DTSTAMP:20260421T034434Z
URL:https://business.harlingen.com/events/details/candlelight-vigil-ni-una-mas-not-one-more-10-06-2011-3184
END:VEVENT

END:VCALENDAR
