BEGIN:VCALENDAR
VERSION:2.0
PRODID:-//ChamberMaster//Event Calendar 2.0//EN
METHOD:PUBLISH
X-PUBLISHED-TTL:P3D
REFRESH-INTERVAL:P3D
CALSCALE:GREGORIAN
BEGIN:VEVENT
DTSTART:20100212T173000Z
DTEND:20100212T190000Z
X-MICROSOFT-CDO-ALLDAYEVENT:FALSE
SUMMARY:Canterbury Court Valentine Luncheon
DESCRIPTION:Join us for a Valentine luncheon.  Good food\, sweetheart photos & prizes.  Special recognition for couples married 50 years or more!  Enter to win dinner at the Lonestar Restaurant.  For more information\, call 956-412-7000.
X-ALT-DESC;FMTTYPE=text/html:Join us for a Valentine luncheon.  Good food\, sweetheart photos & prizes.  Special recognition for couples married 50 years or more!  Enter to win dinner at the Lonestar Restaurant.  For more information\, call 956-412-7000.
LOCATION:
UID:e.1828.2377
SEQUENCE:3
DTSTAMP:20260422T095947Z
URL:https://business.harlingen.com/events/details/canterbury-court-valentine-luncheon-02-12-2010-2377
END:VEVENT

END:VCALENDAR
