BEGIN:VCALENDAR
VERSION:2.0
PRODID:-//ChamberMaster//Event Calendar 2.0//EN
METHOD:PUBLISH
X-PUBLISHED-TTL:P3D
REFRESH-INTERVAL:P3D
CALSCALE:GREGORIAN
BEGIN:VEVENT
DTSTART:20090923T120000Z
DTEND:20090923T140000Z
X-MICROSOFT-CDO-ALLDAYEVENT:FALSE
SUMMARY:Canterbury Gardens Veteran's Appreciation
DESCRIPTION:Please join us for a delicious Veteran's Appreciation Breakfast as we honor your service to our country on Wednesday\, September 23rd from 7:00am-9:00am at Canterbury Gardens.
X-ALT-DESC;FMTTYPE=text/html:Please join us for a delicious Veteran's Appreciation Breakfast as we honor your service to our country on Wednesday\, September 23rd from 7:00am-9:00am at Canterbury Gardens.\n
LOCATION:
UID:e.1828.2072
SEQUENCE:3
DTSTAMP:20260422T112125Z
URL:https://business.harlingen.com/events/details/canterbury-gardens-veteran-s-appreciation-09-23-2009-2072
END:VEVENT

END:VCALENDAR
