BEGIN:VCALENDAR
VERSION:2.0
PRODID:-//ChamberMaster//Event Calendar 2.0//EN
METHOD:PUBLISH
X-PUBLISHED-TTL:P3D
REFRESH-INTERVAL:P3D
CALSCALE:GREGORIAN
BEGIN:VEVENT
DTSTART:20120202T160000Z
DTEND:20120202T160000Z
X-MICROSOFT-CDO-ALLDAYEVENT:FALSE
SUMMARY:Capital Farm Credit Open House
DESCRIPTION:Come celebrate the grand opening of Capital Farm Credit's newest location with an open house and ribbon cutting ceremony. Take a tour of the office\, meet the staff\, and enjoy some refreshments.
X-ALT-DESC;FMTTYPE=text/html:Come celebrate the grand opening of Capital Farm Credit's newest location with an open house and ribbon cutting ceremony. Take a tour of the office\, meet the staff\, and enjoy some refreshments. \n
LOCATION:
UID:e.1828.3383
SEQUENCE:3
DTSTAMP:20260420T200247Z
URL:https://business.harlingen.com/events/details/capital-farm-credit-open-house-02-02-2012-3383
END:VEVENT

END:VCALENDAR
