BEGIN:VCALENDAR
VERSION:2.0
PRODID:-//ChamberMaster//Event Calendar 2.0//EN
METHOD:PUBLISH
X-PUBLISHED-TTL:P3D
REFRESH-INTERVAL:P3D
CALSCALE:GREGORIAN
BEGIN:VEVENT
DTSTART:20110504T150000Z
DTEND:20110504T170000Z
X-MICROSOFT-CDO-ALLDAYEVENT:FALSE
SUMMARY:Caregiver SOS by WellMed Grand Opening
DESCRIPTION:Gran Opening ceremony for Caregiver SOS and the Harlingen Senior Center.\nThe new Caregiver SOS by WellMed is a unique caregiver\nresource center housed at the Harlingen Senior Center. The\nCaregiver SOS ensures that family caregivers have the help\nthey need to continue caring and living well. It offers an array\nof educational and support services designed to improve the\nhealth and well-being of family caregivers and their loved ones.\nCombined\, these two new Harlingen resources will help to\nmeet the social\, physical\, and educational needs of seniors in\nour community.\nServices are available at no cost to anyone age 60 and older\nand their primary family caregivers.
X-ALT-DESC;FMTTYPE=text/html:Gran Opening ceremony for Caregiver SOS and the Harlingen Senior Center.\nThe new Caregiver SOS by WellMed is a unique caregiver\nresource center housed at the Harlingen Senior Center. The\nCaregiver SOS ensures that family caregivers have the help\nthey need to continue caring and living well. It offers an array\nof educational and support services designed to improve the\nhealth and well-being of family caregivers and their loved ones.\nCombined\, these two new Harlingen resources will help to\nmeet the social\, physical\, and educational needs of seniors in\nour community.\nServices are available at no cost to anyone age 60 and older\nand their primary family caregivers.
LOCATION:512 Victoria Lane is right behind the Harlingen Medical Center.
UID:e.1828.3241
SEQUENCE:3
DTSTAMP:20260421T094605Z
URL:https://business.harlingen.com/events/details/caregiver-sos-by-wellmed-grand-opening-05-04-2011-3241
END:VEVENT

END:VCALENDAR
