BEGIN:VCALENDAR
VERSION:2.0
PRODID:-//ChamberMaster//Event Calendar 2.0//EN
METHOD:PUBLISH
X-PUBLISHED-TTL:P3D
REFRESH-INTERVAL:P3D
CALSCALE:GREGORIAN
BEGIN:VEVENT
DTSTART;VALUE=DATE:20100212
DTEND;VALUE=DATE:20100213
TRANSP:TRANSPARENT
X-MICROSOFT-CDO-ALLDAYEVENT:TRUE
SUMMARY:Carlos Canas in Concert
DESCRIPTION:Purchase tickets online at www.hpatonline.net or at the box office.
X-ALT-DESC;FMTTYPE=text/html:Purchase tickets online at www.hpatonline.net or at the box office.  
LOCATION:
UID:e.1828.2285
SEQUENCE:3
DTSTAMP:20260422T094642Z
URL:https://business.harlingen.com/events/details/carlos-canas-in-concert-02-12-2010-2285
END:VEVENT

END:VCALENDAR
