BEGIN:VCALENDAR
VERSION:2.0
PRODID:-//ChamberMaster//Event Calendar 2.0//EN
METHOD:PUBLISH
X-PUBLISHED-TTL:P3D
REFRESH-INTERVAL:P3D
CALSCALE:GREGORIAN
BEGIN:VEVENT
DTSTART:20110410T000000Z
DTEND:20110410T000000Z
X-MICROSOFT-CDO-ALLDAYEVENT:FALSE
SUMMARY:Carlos Prieto-Cellist
DESCRIPTION:Carlos Prieto-Cellist\nSaturday\, April 9  7:00 p.m.\nHarlingen Municipal Auditorium-1204 Fair Park Blvd\nFor ticket info\, call (956) 216-5990 or arts@myharlingen.us
X-ALT-DESC;FMTTYPE=text/html:Carlos Prieto-Cellist\nSaturday\, April 9  7:00 p.m.\nHarlingen Municipal Auditorium-1204 Fair Park Blvd\nFor ticket info\, call (956) 216-5990 or arts@myharlingen.us\n
LOCATION:
UID:e.1828.3019
SEQUENCE:3
DTSTAMP:20260421T111052Z
URL:https://business.harlingen.com/events/details/carlos-prieto-cellist-04-09-2011-3019
END:VEVENT

END:VCALENDAR
