BEGIN:VCALENDAR
VERSION:2.0
PRODID:-//ChamberMaster//Event Calendar 2.0//EN
METHOD:PUBLISH
X-PUBLISHED-TTL:P3D
REFRESH-INTERVAL:P3D
CALSCALE:GREGORIAN
BEGIN:VEVENT
DTSTART:20101023T130000Z
DTEND:20101023T130000Z
X-MICROSOFT-CDO-ALLDAYEVENT:FALSE
SUMMARY:CASA Speak Up for Kids 5K Run
DESCRIPTION:CASA of Cameron & Willacy Counties are sponsoring a 1M Walk and 5K Run for children and adults on Sat.\, Oct. 23rd at  8:00 am at the Rio Hondo City Hall.  For more information or to register\, please call 956-546-6545.
X-ALT-DESC;FMTTYPE=text/html:CASA of Cameron & Willacy Counties are sponsoring a 1M Walk and 5K Run for children and adults on Sat.\, Oct. 23rd at  8:00 am at the Rio Hondo City Hall.  For more information or to register\, please call 956-546-6545. 
LOCATION:
UID:e.1828.2781
SEQUENCE:3
DTSTAMP:20260421T222330Z
URL:https://business.harlingen.com/events/details/casa-speak-up-for-kids-5k-run-10-23-2010-2781
END:VEVENT

END:VCALENDAR
