BEGIN:VCALENDAR
VERSION:2.0
PRODID:-//ChamberMaster//Event Calendar 2.0//EN
METHOD:PUBLISH
X-PUBLISHED-TTL:P3D
REFRESH-INTERVAL:P3D
CALSCALE:GREGORIAN
BEGIN:VEVENT
DTSTART;VALUE=DATE:20121116
DTEND;VALUE=DATE:20121119
TRANSP:TRANSPARENT
X-MICROSOFT-CDO-ALLDAYEVENT:TRUE
SUMMARY:Cat On a Hot Tin Roof
DESCRIPTION:2012-2013 Season Spotlight Series. Cat On a Hot Tin Roof by Tennessee Williams. A classic drama about a Southern family's greed\, sins of the past and desperate\, clawing hopes for the future. Winner of the Pulitzer and the Drama Critics Award. For more information please call 956-412-7529 or e-mail www.hpatonline.org
X-ALT-DESC;FMTTYPE=text/html:2012-2013 Season Spotlight Series. Cat On a Hot Tin Roof by Tennessee Williams. A classic drama about a Southern family's greed\, sins of the past and desperate\, clawing hopes for the future. Winner of the Pulitzer and the Drama Critics Award. For more information please call 956-412-7529 or e-mail www.hpatonline.org
LOCATION:
UID:e.1828.4011
SEQUENCE:3
DTSTAMP:20260420T124500Z
URL:https://business.harlingen.com/events/details/cat-on-a-hot-tin-roof-11-16-2012-4011
END:VEVENT

END:VCALENDAR
