BEGIN:VCALENDAR
VERSION:2.0
PRODID:-//ChamberMaster//Event Calendar 2.0//EN
METHOD:PUBLISH
X-PUBLISHED-TTL:P3D
REFRESH-INTERVAL:P3D
CALSCALE:GREGORIAN
BEGIN:VEVENT
DTSTART:20100101T030000Z
DTEND:20091231T070000Z
X-MICROSOFT-CDO-ALLDAYEVENT:FALSE
SUMMARY:Catholic Daughters of the Americas New Year's Eve Scholarship Gala
DESCRIPTION:Catholic Daughters of the Americas New Year's Eve Scholarship Gala Thursday\, December 31\, 2009 from 9:00 pm to 1:00 am at A Catered Affair located at 301 E. Jackson.  Semi-formal attire – Coat & Tie  -  Cash Bar.  $30/person.  For ticket information please contact the Harlingen Hispanic Chamber of Commerce at 956-421-2400.
X-ALT-DESC;FMTTYPE=text/html:Catholic Daughters of the Americas New Year's Eve Scholarship Gala Thursday\, December 31\, 2009 from 9:00 pm to 1:00 am at A Catered Affair located at 301 E. Jackson.  Semi-formal attire – Coat & Tie  -  Cash Bar.  $30/person.  For ticket information please contact the Harlingen Hispanic Chamber of Commerce at 956-421-2400.\n
LOCATION:
UID:e.1828.2294
SEQUENCE:3
DTSTAMP:20260422T130841Z
URL:https://business.harlingen.com/events/details/catholic-daughters-of-the-americas-new-year-s-eve-scholarship-gala-12-31-2009-2294
END:VEVENT

END:VCALENDAR
