BEGIN:VCALENDAR
VERSION:2.0
PRODID:-//ChamberMaster//Event Calendar 2.0//EN
METHOD:PUBLISH
X-PUBLISHED-TTL:P3D
REFRESH-INTERVAL:P3D
CALSCALE:GREGORIAN
BEGIN:VEVENT
DTSTART:20090816T000000Z
DTEND:20090816T000000Z
X-MICROSOFT-CDO-ALLDAYEVENT:FALSE
SUMMARY:Cattle Baron's Ball
DESCRIPTION:The American Cancer Society is pleased to present this prestigious event to the Rio Grande Valley to aide in the fight against cancer.  The ball will be held at the Museum of South Texas History in Edinburg from 7:00 pm to 12:00 midnight. All proceeds from this event will benefit the American Cancer Society.  Your donation goes toward life-saving research\, advocacy and preventive education. Live entertainment provided by Texas Heat along with Dinner\, Dancing\, Midway Games and Silent and Live Auctions.  For more information\, please contact Patricia Villasenor with the American Cancer Society at 956.682.8329.
X-ALT-DESC;FMTTYPE=text/html:The American Cancer Society is pleased to present this prestigious event to the Rio Grande Valley to aide in the fight against cancer.  The ball will be held at the Museum of South Texas History in Edinburg from 7:00 pm to 12:00 midnight. All proceeds from this event will benefit the American Cancer Society.  Your donation goes toward life-saving research\, advocacy and preventive education. Live entertainment provided by Texas Heat along with Dinner\, Dancing\, Midway Games and Silent and Live Auctions.  For more information\, please contact Patricia Villasenor with the American Cancer Society at 956.682.8329.
LOCATION:Museum of South Texas History
UID:e.1828.1953
SEQUENCE:3
DTSTAMP:20260422T080724Z
URL:https://business.harlingen.com/events/details/cattle-baron-s-ball-08-15-2009-1953
END:VEVENT

END:VCALENDAR
