BEGIN:VCALENDAR
VERSION:2.0
PRODID:-//ChamberMaster//Event Calendar 2.0//EN
METHOD:PUBLISH
X-PUBLISHED-TTL:P3D
REFRESH-INTERVAL:P3D
CALSCALE:GREGORIAN
BEGIN:VEVENT
DTSTART:20110626T000000Z
DTEND:20110625T050000Z
X-MICROSOFT-CDO-ALLDAYEVENT:FALSE
SUMMARY:Cattle Baron's Ball Diamond\, Dust & Cowboy Stuff
DESCRIPTION:Join the party and offer your support to the American Cancer Society for this worthy cause. For sponsorship & table information contact Patricia Villasenor 956-682-8329 or patsy.villasenor@cancer.org .
X-ALT-DESC;FMTTYPE=text/html:Join the party and offer your support to the American Cancer Society for this worthy cause. For sponsorship & table information contact Patricia Villasenor 956-682-8329 or patsy.villasenor@cancer.org . 
LOCATION:
UID:e.1828.3082
SEQUENCE:3
DTSTAMP:20260421T083751Z
URL:https://business.harlingen.com/events/details/cattle-baron-s-ball-diamond-dust-cowboy-stuff-06-25-2011-3082
END:VEVENT

END:VCALENDAR
