BEGIN:VCALENDAR
VERSION:2.0
PRODID:-//ChamberMaster//Event Calendar 2.0//EN
METHOD:PUBLISH
X-PUBLISHED-TTL:P3D
REFRESH-INTERVAL:P3D
CALSCALE:GREGORIAN
BEGIN:VEVENT
DTSTART;VALUE=DATE:20100128
DTEND;VALUE=DATE:20100131
TRANSP:TRANSPARENT
X-MICROSOFT-CDO-ALLDAYEVENT:TRUE
SUMMARY:Caught in the Net
DESCRIPTION:Purchase tickets online at www.hpatonline.net or at the box office.
X-ALT-DESC;FMTTYPE=text/html:Purchase tickets online at www.hpatonline.net or at the box office.  
LOCATION:
UID:e.1828.2283
SEQUENCE:3
DTSTAMP:20260422T111602Z
URL:https://business.harlingen.com/events/details/caught-in-the-net-01-28-2010-2283
END:VEVENT

END:VCALENDAR
