BEGIN:VCALENDAR
VERSION:2.0
PRODID:-//ChamberMaster//Event Calendar 2.0//EN
METHOD:PUBLISH
X-PUBLISHED-TTL:P3D
REFRESH-INTERVAL:P3D
CALSCALE:GREGORIAN
BEGIN:VEVENT
DTSTART;VALUE=DATE:20110604
DTEND;VALUE=DATE:20110605
TRANSP:TRANSPARENT
X-MICROSOFT-CDO-ALLDAYEVENT:TRUE
SUMMARY:"Celebrando Diversidad: Bi-Cultural Border Healthcare"
DESCRIPTION:"Celebrando Diversidad: Bi-Cultural Border Healthcare"  \nHIV/AIDS Conference on Continuing Education\n\nGuest Speakers: Dr. Gary Blick & Dr. Guillermo Ramirez\n$35 Conference fee includes lunch - CME's\, CNE's\, & CEU's available\nVAC is excited to introduce its new Executive Director and Administration!
X-ALT-DESC;FMTTYPE=text/html:"Celebrando Diversidad: Bi-Cultural Border Healthcare"  \nHIV/AIDS Conference on Continuing Education\n\nGuest Speakers: Dr. Gary Blick & Dr. Guillermo Ramirez\n$35 Conference fee includes lunch - CME's\, CNE's\, & CEU's available\nVAC is excited to introduce its new Executive Director and Administration! \n
LOCATION:
UID:e.1828.3049
SEQUENCE:3
DTSTAMP:20260421T094925Z
URL:https://business.harlingen.com/events/details/celebrando-diversidad-bi-cultural-border-healthcare-06-04-2011-3049
END:VEVENT

END:VCALENDAR
